BEGIN:VCALENDAR
VERSION:2.0
PRODID:-//Squarespace Inc/Squarespace 6//v6//EN
BEGIN:VEVENT
UID:5b7779a48a922da6923ccbbe@squarespace.com
DTSTAMP:20180818T014801Z
DTSTART:20190209T010000Z
DTEND:20190228T040000Z
SUMMARY:Aaron Scythe
GEO:-43.542698;172.636834
LOCATION:Form Gallery\, 468 Colombo Street\, Christchurch\, Canterbury\, 80
 23\, New Zealand
END:VEVENT
END:VCALENDAR
