BEGIN:VCALENDAR
VERSION:2.0
PRODID:-//Squarespace Inc/Squarespace 6//v6//EN
BEGIN:VEVENT
UID:5a9a08a38165f55874054d3a@squarespace.com
DTSTAMP:20180307T222104Z
DTSTART:20180307T043000Z
DTEND:20180327T040000Z
SUMMARY:One Pot\, One Shot - Canterbury Potters
GEO:-43.542698;172.636834
LOCATION:Form Gallery\, 468 Colombo Street\, Christchurch\, Canterbury\, 80
 23\, New Zealand
END:VEVENT
END:VCALENDAR
