BEGIN:VCALENDAR
VERSION:2.0
PRODID:-//Squarespace Inc/Squarespace 6//v6//EN
BEGIN:VEVENT
UID:5b0629b188251b0847b11e08@squarespace.com
DTSTAMP:20180609T021827Z
DTSTART:20180606T053000Z
DTEND:20180626T050000Z
SUMMARY:It's Better Together - Di Tocker
GEO:-43.542698;172.636834
LOCATION:Form Gallery\, 468 Colombo Street\, Christchurch\, Canterbury\, 80
 23\, New Zealand
END:VEVENT
END:VCALENDAR
