BEGIN:VCALENDAR
VERSION:2.0
PRODID:-//Squarespace Inc/Squarespace 6//v6//EN
BEGIN:VEVENT
UID:5a839c47652dea086211cfbf@squarespace.com
DTSTAMP:20180215T004521Z
DTSTART:20180210T010000Z
DTEND:20180302T040000Z
SUMMARY:Harry's Circus - Fiona Tunnicliffe
GEO:-43.542698;172.636834
LOCATION:Form Gallery\, 468 Colombo Street\, Christchurch\, Canterbury\, 80
 23\, New Zealand
END:VEVENT
END:VCALENDAR
